BEGIN:VCALENDAR
PRODID:-//eluceo/ical//2.0/EN
VERSION:2.0
CALSCALE:GREGORIAN
BEGIN:VEVENT
UID:0ae638facee00929c0ec552d7f9e5255
DTSTAMP:20260424T115226Z
SUMMARY:Temple Israel Jew Crew Teen Night
DESCRIPTION:Shaw JCC of Akron\nCalendar\nhttps://shawjcc.org/calendar/teen-
 night-a-214439\n\nLed by Rabbi Brown.  Includes dinner.
DTSTART;TZID=America/New_York:20170208T180000
DTEND;TZID=America/New_York:20170208T190000
END:VEVENT
END:VCALENDAR
