BEGIN:VCALENDAR
PRODID:-//eluceo/ical//2.0/EN
VERSION:2.0
CALSCALE:GREGORIAN
BEGIN:VEVENT
UID:ada3264df0f6cfd6c36d3dd21b767c71
DTSTAMP:20260423T082716Z
SUMMARY:Temple Israel Akron 160th Celebration
DESCRIPTION:Shaw JCC of Akron\nCalendar\nhttps://shawjcc.org/calendar/templ
 e-israel-akron-160th-celebration-1702673356-454207\n\n160th Celebration de
 tails to be determined
DTSTART;TZID=America/New_York:20250516T181500
DTEND;TZID=America/New_York:20250518T180000
END:VEVENT
END:VCALENDAR
