BEGIN:VCALENDAR
PRODID:-//eluceo/ical//2.0/EN
VERSION:2.0
CALSCALE:GREGORIAN
BEGIN:VEVENT
UID:46407f3ca13b4e50a4d96668fd71534a
DTSTAMP:20260425T160653Z
SUMMARY:Temple Israel Annual Meeting & Board Installation
DESCRIPTION:Shaw JCC of Akron\nCalendar\nhttps://shawjcc.org/calendar/templ
 e-israel-annual-meeting--board-installation-1683304710-437153\n\nAnnual me
 eting and the installation of a new board and officers
DTSTART;TZID=America/New_York:20230613T190000
DTEND;TZID=America/New_York:20230613T210000
END:VEVENT
END:VCALENDAR
