BEGIN:VCALENDAR
PRODID:-//eluceo/ical//2.0/EN
VERSION:2.0
CALSCALE:GREGORIAN
BEGIN:VEVENT
UID:2e7087508e2e7ccb38c49661736adee9
DTSTAMP:20260421T092316Z
SUMMARY:Temple Israel Annual Meeting & Dinner
DESCRIPTION:Shaw JCC of Akron\nCalendar\nhttps://shawjcc.org/calendar/templ
 e-israel-annual-meeting-and-dinner-218654\n\nTemple Israel annual meeting 
 and dinner - installation of new officers
DTSTART;TZID=America/New_York:20170613T173000
DTEND;TZID=America/New_York:20170613T190000
END:VEVENT
END:VCALENDAR
