BEGIN:VCALENDAR
PRODID:-//eluceo/ical//2.0/EN
VERSION:2.0
CALSCALE:GREGORIAN
BEGIN:VEVENT
UID:f2086dd868a6beed78aa8d2e3ea04947
DTSTAMP:20260423T113857Z
SUMMARY:Temple Israel Board of Trustees Retreat
DESCRIPTION:Shaw JCC of Akron\nCalendar\nhttps://shawjcc.org/calendar/templ
 e-israel-board-of-trustees-retreat-218656\n\nTemple Israel's Board of Trus
 tees retreat
DTSTART;TZID=America/New_York:20170819T170000
DTEND;TZID=America/New_York:20170820T170000
END:VEVENT
END:VCALENDAR
