BEGIN:VCALENDAR
PRODID:-//eluceo/ical//2.0/EN
VERSION:2.0
CALSCALE:GREGORIAN
BEGIN:VEVENT
UID:deebf30c6b5ec7000f7c57f23f3fd997
DTSTAMP:20260421T174533Z
SUMMARY:Temple Israel Rock Shabbat Service
DESCRIPTION:Shaw JCC of Akron\nCalendar\nhttps://shawjcc.org/calendar/templ
 e-israel-rock-shabbat-service-5-190669\n\nJoin Cantor Kathy Fromson for fu
 n and singing at Rock Shabbat.
DTSTART;TZID=America/New_York:20170602T181500
DTEND;TZID=America/New_York:20170602T193000
END:VEVENT
END:VCALENDAR
