BEGIN:VCALENDAR
PRODID:-//eluceo/ical//2.0/EN
VERSION:2.0
CALSCALE:GREGORIAN
BEGIN:VEVENT
UID:626a535ae0d4343a07e8c0f9c3ac5618
DTSTAMP:20260423T000153Z
SUMMARY:Temple Israel's Interfaith Service
DESCRIPTION:Shaw JCC of Akron\nCalendar\nhttps://shawjcc.org/calendar/templ
 e-israels-interfaith-service-1573743167-334328\n\nWe welcome friends and c
 ongregations of different faiths to join us for a learning Shabbat.
DTSTART;TZID=America/New_York:20200124T181500
DTEND;TZID=America/New_York:20200124T201500
END:VEVENT
END:VCALENDAR
