BEGIN:VCALENDAR
PRODID:-//eluceo/ical//2.0/EN
VERSION:2.0
CALSCALE:GREGORIAN
BEGIN:VEVENT
UID:c54364f00d90f41303fad7944b59dbd8
DTSTAMP:20260421T120535Z
SUMMARY:Thank you Shabbat
DESCRIPTION:Shaw JCC of Akron\nCalendar\nhttps://shawjcc.org/calendar/thank
 -you-shabbat3-210829\n\nThank You Shabbat At Beth El
DTSTART;TZID=America/New_York:20170211T091500
DTEND;TZID=America/New_York:20170211T120000
END:VEVENT
END:VCALENDAR
