BEGIN:VCALENDAR
PRODID:-//eluceo/ical//2.0/EN
VERSION:2.0
CALSCALE:GREGORIAN
BEGIN:VEVENT
UID:a589c66b753a16dfc5cdc37a10d8255c
DTSTAMP:20260420T215653Z
SUMMARY:The Kingergarten Quandary
DESCRIPTION:Shaw JCC of Akron\nCalendar\nhttps://shawjcc.org/calendar/the-k
 ingergarten-quandary-334457\n\nPlease join us in The Woll Family Center at
  The Lippman School on Wednesday\, January 15\, 2020\n\nTime 6:00-7:30 PM\
 n\nIs my child ready for Kindergarten? Discussion led by David Steinweg\, 
 PhD.\n\nComplinentary babysitting will be provided. Call 330-835.0033\n\nP
 LEASE RSVP BY JANUARY 14\, 2020
DTSTART;TZID=America/New_York:20200115T180000
DTEND;TZID=America/New_York:20200115T193000
END:VEVENT
END:VCALENDAR
