BEGIN:VCALENDAR
PRODID:-//eluceo/ical//2.0/EN
VERSION:2.0
CALSCALE:GREGORIAN
BEGIN:VEVENT
UID:0d5bf85737dd9e075080ded494bcd81e
DTSTAMP:20260424T200933Z
SUMMARY:The Lippman School Play
DESCRIPTION:Shaw JCC of Akron\nCalendar\nhttps://shawjcc.org/calendar/the-l
 ippman--play-191653\n\nPlease join us on Wednesday\, February 16\, 2017 fo
 r The Lippman School Play\n\nperformed by our students in grades TK-8  gr
 ades\n\n5:30-7:30 pm\n\nThis performance is for all ages. Ticket informati
 on will be sent out later or you may check out the school's website:www.th
 elippmanschool.org
DTSTART;TZID=America/New_York:20170215T173000
DTEND;TZID=America/New_York:20170215T193000
END:VEVENT
END:VCALENDAR
