BEGIN:VCALENDAR
PRODID:-//eluceo/ical//2.0/EN
VERSION:2.0
CALSCALE:GREGORIAN
BEGIN:VEVENT
UID:044fa0ca08641317b4c8e3596387f363
DTSTAMP:20260422T104406Z
SUMMARY:The Lippman School - Back to School BBQ
DESCRIPTION:Shaw JCC of Akron\nCalendar\nhttps://shawjcc.org/calendar/the-l
 ippman-school---back-to-school-bbq-1776785215-515085\n\nThe Lippman School
  - Back to School BBQ
DTSTART;TZID=America/New_York:20260823T160000
DTEND;TZID=America/New_York:20260823T180000
END:VEVENT
END:VCALENDAR
