BEGIN:VCALENDAR
PRODID:-//eluceo/ical//2.0/EN
VERSION:2.0
CALSCALE:GREGORIAN
BEGIN:VEVENT
UID:b8dd4fcd140d6ca8c78416f4f972f363
DTSTAMP:20260425T010753Z
SUMMARY:The Lippman School - Middle School Step Up Night
DESCRIPTION:Shaw JCC of Akron\nCalendar\nhttps://shawjcc.org/calendar/the-l
 ippman-school---middle-school-ste-up-night-1544644110-295647\n\nThis meeti
 ng is for current Lippman families who have children entering the 5th grad
 e. Teachers will present curriculum and be available for questions. Woll F
 amily Center for Innovation.
DTSTART;TZID=America/New_York:20190115T173000
DTEND;TZID=America/New_York:20190115T190000
END:VEVENT
END:VCALENDAR
