BEGIN:VCALENDAR
PRODID:-//eluceo/ical//2.0/EN
VERSION:2.0
CALSCALE:GREGORIAN
BEGIN:VEVENT
UID:456a2d4bea987539adf65970cc7f0ec3
DTSTAMP:20260423T132040Z
SUMMARY:The Lippman School Board of Trustees Meeting
DESCRIPTION:Shaw JCC of Akron\nCalendar\nhttps://shawjcc.org/calendar/the-l
 ippman-school-board-of-trustees--249535\n\nBoard of Trustees Meeting in Th
 e Woll Family Center for Innovation.\n\nThursday\, November 2\, 2017 at 5:
 45-7:00 pm
DTSTART;TZID=America/New_York:20171102T174500
DTEND;TZID=America/New_York:20171102T190000
END:VEVENT
END:VCALENDAR
