BEGIN:VCALENDAR
PRODID:-//eluceo/ical//2.0/EN
VERSION:2.0
CALSCALE:GREGORIAN
BEGIN:VEVENT
UID:e77702f73ad8f027a35557e269882320
DTSTAMP:20260425T235259Z
SUMMARY:The Lippman School Graduation
DESCRIPTION:Shaw JCC of Akron\nCalendar\nhttps://shawjcc.org/calendar/the-l
 ippman-school-graduation-227159\n\nThe Lippman School Graduation
DTSTART;TZID=America/New_York:20170608T140000
DTEND;TZID=America/New_York:20170608T153000
END:VEVENT
END:VCALENDAR
