BEGIN:VCALENDAR
PRODID:-//eluceo/ical//2.0/EN
VERSION:2.0
CALSCALE:GREGORIAN
BEGIN:VEVENT
UID:f941867fed9155a5ce67515c6932a195
DTSTAMP:20260422T213833Z
SUMMARY:The Lippman School Play - Matinee
DESCRIPTION:Shaw JCC of Akron\nCalendar\nhttps://shawjcc.org/calendar/the-l
 ippman-school-play---matinee-1746108006-491093\n\nThe Lippman School prese
 nts SUPERCALIFRAGILISTIC
DTSTART;TZID=America/New_York:20250514T130000
DTEND;TZID=America/New_York:20250514T150000
END:VEVENT
END:VCALENDAR
