BEGIN:VCALENDAR
PRODID:-//eluceo/ical//2.0/EN
VERSION:2.0
CALSCALE:GREGORIAN
BEGIN:VEVENT
UID:db71719b2eb56bbede248acc91382971
DTSTAMP:20260422T023716Z
SUMMARY:The Lippman School Play - Tales of Peter Pan
DESCRIPTION:Shaw JCC of Akron\nCalendar\nhttps://shawjcc.org/calendar/the-l
 ippman-school-play---tales-of-peter-pan-1776785509-515086\n\nThe Lippman S
 chool Play - Tales of Peter Pan
DTSTART;TZID=America/New_York:20260514T173000
DTEND;TZID=America/New_York:20260514T193000
END:VEVENT
END:VCALENDAR
