BEGIN:VCALENDAR
PRODID:-//eluceo/ical//2.0/EN
VERSION:2.0
CALSCALE:GREGORIAN
BEGIN:VEVENT
UID:224caa2ec502ed96fb39707050a5ce7e
DTSTAMP:20260422T042102Z
SUMMARY:TLS Play  POSTPONED
DESCRIPTION:Shaw JCC of Akron\nCalendar\nhttps://shawjcc.org/calendar/the-l
 ippman-school-play-1575220343-335568\n\nThe Lippman School Play presents t
 he\n“Lion King”\nWednesday\, March 25\, 2020\n1:00 -3:30 pm\nShaw JCC 
 Auditorium
DTSTART;TZID=America/New_York:20200325T130000
DTEND;TZID=America/New_York:20200325T153000
END:VEVENT
END:VCALENDAR
