BEGIN:VCALENDAR
PRODID:-//eluceo/ical//2.0/EN
VERSION:2.0
CALSCALE:GREGORIAN
BEGIN:VEVENT
UID:4fb4ff006cfce209688eaa42626e358e
DTSTAMP:20260423T183837Z
SUMMARY:TLS Play POSTPONED
DESCRIPTION:Shaw JCC of Akron\nCalendar\nhttps://shawjcc.org/calendar/the-l
 ippman-school-play-1575220991-335569\n\nThe Lippman School Play\n\nThe Lio
 n King\n\nMarch 26\, 5-8:30 PM\nShaw JCC Auditirium
DTSTART;TZID=America/New_York:20200326T170000
DTEND;TZID=America/New_York:20200326T203000
END:VEVENT
END:VCALENDAR
