BEGIN:VCALENDAR
PRODID:-//eluceo/ical//2.0/EN
VERSION:2.0
CALSCALE:GREGORIAN
BEGIN:VEVENT
UID:3c6badbe1a6e65e2f63091c213fad1c8
DTSTAMP:20260422T023706Z
SUMMARY:The Lippman School Play Matinee - Tales of Peter Pan
DESCRIPTION:Shaw JCC of Akron\nCalendar\nhttps://shawjcc.org/calendar/the-l
 ippman-school-play-matinee---tales-of-peter-pan-1776786502-515089\n\nThe L
 ippman School Play Matinee - Tales of Peter Pan
DTSTART;TZID=America/New_York:20260513T130000
DTEND;TZID=America/New_York:20260513T150000
END:VEVENT
END:VCALENDAR
