BEGIN:VCALENDAR
PRODID:-//eluceo/ical//2.0/EN
VERSION:2.0
CALSCALE:GREGORIAN
BEGIN:VEVENT
UID:9d2bbcf1d48c0ae66a7b69f52a17d38c
DTSTAMP:20260422T234554Z
SUMMARY:The Science of Reading
DESCRIPTION:Shaw JCC of Akron\nCalendar\nhttps://shawjcc.org/calendar/the-s
 cience-of-reading-1693582387-447307\n\nKari Dahle-Huff from Montana State 
 University Billings will be here for a community learning forum on "The Sc
 ience of Reading"
DTSTART;TZID=America/New_York:20231030T173000
DTEND;TZID=America/New_York:20231030T193000
END:VEVENT
END:VCALENDAR
