BEGIN:VCALENDAR
PRODID:-//eluceo/ical//2.0/EN
VERSION:2.0
CALSCALE:GREGORIAN
BEGIN:VEVENT
UID:9c878f1b1e2c3ea6275e2ea03a8b144b
DTSTAMP:20260423T062407Z
SUMMARY:The Simcha of Wine
DESCRIPTION:Shaw JCC of Akron\nCalendar\nhttps://shawjcc.org/calendar/the-s
 imcha-of-wine-1519227389-262663\n\nDon’t whine over the wine this Passov
 er! Join us for a night out of meeting and mingling. The price includes fo
 od and wine pairings\, dessert and a variety of coffees and teas. Wine bot
 tles will be available for purchase. Please RSVP to Temple by March 16. Fr
 ee babysitting will be available at Temple Israel. Please note in RSVP if 
 needed. The kids will get pizza and watch a movie.
DTSTART;TZID=America/New_York:20180324T190000
DTEND;TZID=America/New_York:20180324T210000
END:VEVENT
END:VCALENDAR
