BEGIN:VCALENDAR
PRODID:-//eluceo/ical//2.0/EN
VERSION:2.0
CALSCALE:GREGORIAN
BEGIN:VEVENT
UID:fbbf67a414ef3286da71502ecc921191
DTSTAMP:20260425T122308Z
SUMMARY:THEATRE PERFORMANCE & TALK-BACK: Improbable Players
DESCRIPTION:Shaw JCC of Akron\nCalendar\nhttps://shawjcc.org/calendar/theat
 re-performance--talk-back-improbable-players-1559662042-312555\n\nThe dise
 ase of addiction thrives in the dark. Improbable Players\, a nonprofit tha
 t provides prevention education theatre\, helps communities bring it into 
 the light and talk about it. The troupe was started in Boston and uses the
 atre performance and workshops to address addiction\, alcoholism\, and the
  opioid epidemic\, giving their audience the space and tools to combat soc
 ial pressures and find coping strategies that work for them. This performa
 nce of I’ll Never Do That by the Cleveland chapt...
DTSTART;TZID=America/New_York:20190623T150000
DTEND;TZID=America/New_York:20190623T170000
END:VEVENT
END:VCALENDAR
