BEGIN:VCALENDAR
PRODID:-//eluceo/ical//2.0/EN
VERSION:2.0
CALSCALE:GREGORIAN
BEGIN:VEVENT
UID:d687ce3d5ba2aceb39fcaa44e8958083
DTSTAMP:20260423T010542Z
SUMMARY:Torah Study for Shabbat Morning
DESCRIPTION:Shaw JCC of Akron\nCalendar\nhttps://shawjcc.org/calendar/torah
 -study-for-shabbat-morning-november-25-249148\n\nTorah Study for Shabbat m
 orning November 25
DTSTART;TZID=America/New_York:20171125T103000
DTEND;TZID=America/New_York:20171125T120000
END:VEVENT
END:VCALENDAR
