BEGIN:VCALENDAR
PRODID:-//eluceo/ical//2.0/EN
VERSION:2.0
CALSCALE:GREGORIAN
BEGIN:VEVENT
UID:02bae58f1693caa9480b0a8c98e88dff
DTSTAMP:20260421T034019Z
SUMMARY:Tzofim Israeli Scouts Performance
DESCRIPTION:Shaw JCC of Akron\nCalendar\nhttps://shawjcc.org/calendar/tzofi
 m-israeli-scouts-performance-1498662350-236395\n\nThe Shaw JCC and Jewish 
 Community Board of Akron announce a free performance by the Tzofim Israe
 li Scouts\, who crisscross the US\, bringing Israeli culture and goodwill 
 with their unique blend of smiles\, songs\, and dances in Hebrew\, Yiddish
  and English. FREE & open to the community!
DTSTART;TZID=America/New_York:20170807T180000
DTEND;TZID=America/New_York:20170807T200000
END:VEVENT
END:VCALENDAR
