BEGIN:VCALENDAR
PRODID:-//eluceo/ical//2.0/EN
VERSION:2.0
CALSCALE:GREGORIAN
BEGIN:VEVENT
UID:5999fede1b8f2506dfdf9e24e98c2e13
DTSTAMP:20260420T184649Z
SUMMARY:United Health Care Q & A
DESCRIPTION:Shaw JCC of Akron\nCalendar\nhttps://shawjcc.org/calendar/unite
 d-health-care-q-afeb-338018\n\nMichael Poling\, a UnitedHealthCare advisor
 \, will be on hand in the JCC lobby to answer any of your Medicare questio
 ns\, if you are covered by UnitedHealthCare or another provider.
DTSTART;TZID=America/New_York:20200212T110000
DTEND;TZID=America/New_York:20200212T130000
END:VEVENT
END:VCALENDAR
