BEGIN:VCALENDAR
PRODID:-//eluceo/ical//2.0/EN
VERSION:2.0
CALSCALE:GREGORIAN
BEGIN:VEVENT
UID:8835a01af0046ab39acbdaf03f2a4787
DTSTAMP:20260421T175908Z
SUMMARY:URJ Camp George Informational Meeting
DESCRIPTION:Shaw JCC of Akron\nCalendar\nhttps://shawjcc.org/calendar/urj-c
 amp-george-informational-meeting-1510250848-252020\n\nLearn more about URJ
  Camp George's summer 2018 season! 
DTSTART;TZID=America/New_York:20171115T000000
DTEND;TZID=America/New_York:20171115T235959
END:VEVENT
END:VCALENDAR
