BEGIN:VCALENDAR
PRODID:-//eluceo/ical//2.0/EN
VERSION:2.0
CALSCALE:GREGORIAN
BEGIN:VEVENT
UID:1391dadbd79c25eae3af1c2995ac986a
DTSTAMP:20260422T055949Z
SUMMARY:Veteran's Day Brunch
DESCRIPTION:Shaw JCC of Akron\nCalendar\nhttps://shawjcc.org/calendar/veter
 ans-day-brunch-11102018-291016\n\nHonor veterans at this Shabbat brunch. A
 ll veterans free.
DTSTART;TZID=America/New_York:20181110T114500
DTEND;TZID=America/New_York:20181110T130000
END:VEVENT
END:VCALENDAR
