BEGIN:VCALENDAR
PRODID:-//eluceo/ical//2.0/EN
VERSION:2.0
CALSCALE:GREGORIAN
BEGIN:VEVENT
UID:ede59e582b5a082833e7493a1a20ddec
DTSTAMP:20260419T192157Z
SUMMARY:Veterans Program
DESCRIPTION:Shaw JCC of Akron\nCalendar\nhttps://shawjcc.org/calendar/veter
 ans-program-87386\n\nVeteran Recognition
DTSTART;TZID=America/New_York:20171112T090000
DTEND;TZID=America/New_York:20171112T103000
END:VEVENT
END:VCALENDAR
