BEGIN:VCALENDAR
PRODID:-//eluceo/ical//2.0/EN
VERSION:2.0
CALSCALE:GREGORIAN
BEGIN:VEVENT
UID:f57f867e770539b791238bc14d6b8a70
DTSTAMP:20260422T015941Z
SUMMARY:Violin Classes
DESCRIPTION:Shaw JCC of Akron\nCalendar\nhttps://shawjcc.org/calendar/violi
 n-classes-337961\n\nSuzuki ECE classes are an extension of the internation
 ally known Suzuki method. In this program\, a group of mixed age children 
 meet weekly to build concepts and skills laid out in the Suzuki ECE repert
 oire while interacting with one another\, their parents\, and the teachers
 .\n\nRecital on March 11 at 6:15 p.m.\n\nCost: $140/M $210/G\n\n401.VIO11 
 -4-4:40 p.m.\n\n401.VIO22 -4:45-5:15 p.m.\n\n401.VIO33 -5:20-6 p.m.
DTSTART;TZID=America/New_York:20200114T160000
DTEND;TZID=America/New_York:20200114T180000
END:VEVENT
END:VCALENDAR
