BEGIN:VCALENDAR
PRODID:-//eluceo/ical//2.0/EN
VERSION:2.0
CALSCALE:GREGORIAN
BEGIN:VEVENT
UID:6e80e1b6e524d062fc9b65b4ad00be3d
DTSTAMP:20260421T180446Z
SUMMARY:"Violins of Hope" Dinner\, Movie & Discussion
DESCRIPTION:Shaw JCC of Akron\nCalendar\nhttps://shawjcc.org/calendar/violi
 ns-of-hope-dinner-movie-discussion-220362\n\nDinner before "Violins of Hop
 e" movie\, followed by a discussion.
DTSTART;TZID=America/New_York:20170419T180000
DTEND;TZID=America/New_York:20170419T203000
END:VEVENT
END:VCALENDAR
