BEGIN:VCALENDAR
PRODID:-//eluceo/ical//2.0/EN
VERSION:2.0
CALSCALE:GREGORIAN
BEGIN:VEVENT
UID:85dabcfd190fbd23080bce9ffd5ac697
DTSTAMP:20260422T103159Z
SUMMARY:Volunteer at Haven of Rest (BBYO)
DESCRIPTION:Shaw JCC of Akron\nCalendar\nhttps://shawjcc.org/calendar/volun
 teer-at-haven-of-rest-bbyo-1511922748-254694\n\nIt is important to help th
 e community around us. BBYO feels strongly about helping our neighbors and
  giving back. This event allows teen with the opportunity to see how some 
 people in Akron live.
DTSTART;TZID=America/New_York:20171203T130000
DTEND;TZID=America/New_York:20171203T163000
END:VEVENT
END:VCALENDAR
