BEGIN:VCALENDAR
PRODID:-//eluceo/ical//2.0/EN
VERSION:2.0
CALSCALE:GREGORIAN
BEGIN:VEVENT
UID:2a7a4c3d6e1148113d02c765b2a83513
DTSTAMP:20260425T031901Z
SUMMARY:Wee Sing Shabbat
DESCRIPTION:Shaw JCC of Akron\nCalendar\nhttps://shawjcc.org/calendar/wee-s
 ing-shabbat-1499868132-237969\n\nBring children 6 years of age and younger
  to a special Shabbat service led by Temple Israel's Cantor Kathy Fromson.
  
DTSTART;TZID=America/New_York:20170728T053000
DTEND;TZID=America/New_York:20170728T181500
END:VEVENT
END:VCALENDAR
