BEGIN:VCALENDAR
PRODID:-//eluceo/ical//2.0/EN
VERSION:2.0
CALSCALE:GREGORIAN
BEGIN:VEVENT
UID:e6ad92915094b1cdf709b8a6873b0384
DTSTAMP:20260425T112413Z
SUMMARY:Wee Sing Summer at Temple Israel
DESCRIPTION:Shaw JCC of Akron\nCalendar\nhttps://shawjcc.org/calendar/wee-s
 ing-summer-at-temple-israel-1622751466-382039\n\nJoin Cantor Kathy on the 
 Temple patio for songs\, stories\, and activities. Weather Permitting
DTSTART;TZID=America/New_York:20210613T093000
DTEND;TZID=America/New_York:20210613T100000
END:VEVENT
END:VCALENDAR
