BEGIN:VCALENDAR
PRODID:-//eluceo/ical//2.0/EN
VERSION:2.0
CALSCALE:GREGORIAN
BEGIN:VEVENT
UID:05c4913b48df84f4143aff742fcfb5a5
DTSTAMP:20260420T152450Z
SUMMARY:Wee Sing Summer at Temple Israel
DESCRIPTION:Shaw JCC of Akron\nCalendar\nhttps://shawjcc.org/calendar/wee-s
 ing-summer-at-temple-israel-1622751585-382041\n\nJoin Cantor Kathy on the 
 Temple patio for songs\, stories\, and activities. Weather Permitting.
DTSTART;TZID=America/New_York:20210709T163000
DTEND;TZID=America/New_York:20210709T170000
END:VEVENT
END:VCALENDAR
