BEGIN:VCALENDAR
PRODID:-//eluceo/ical//2.0/EN
VERSION:2.0
CALSCALE:GREGORIAN
BEGIN:VEVENT
UID:441ed10665094a7aa746b24dce174acf
DTSTAMP:20260424T152114Z
SUMMARY:Wee Sing Sundays
DESCRIPTION:Shaw JCC of Akron\nCalendar\nhttps://shawjcc.org/calendar/wee-s
 ing-sundays-1531840518-278177\n\nShmooze\, Stories and Songs at Temple Isr
 ael for ages 0-5. Wee Sing is free for families with young children.
DTSTART;TZID=America/New_York:20181028T100000
DTEND;TZID=America/New_York:20181028T110000
END:VEVENT
END:VCALENDAR
