BEGIN:VCALENDAR
PRODID:-//eluceo/ical//2.0/EN
VERSION:2.0
CALSCALE:GREGORIAN
BEGIN:VEVENT
UID:412aa75d5e6abab469a1d6ead37c75d0
DTSTAMP:20260422T204948Z
SUMMARY:Wee Sing Sundays
DESCRIPTION:Shaw JCC of Akron\nCalendar\nhttps://shawjcc.org/calendar/wee-s
 ing-sundays-1531840611-278178\n\nShmooze\, Stories and Songs at Temple Isr
 ael for ages 0-5. Wee Sing is free for families with young children.
DTSTART;TZID=America/New_York:20181118T100000
DTEND;TZID=America/New_York:20181118T110000
END:VEVENT
END:VCALENDAR
