BEGIN:VCALENDAR
PRODID:-//eluceo/ical//2.0/EN
VERSION:2.0
CALSCALE:GREGORIAN
BEGIN:VEVENT
UID:927e67f5a2928058bfc8c43972f87845
DTSTAMP:20260422T171301Z
SUMMARY:Wee Sing Sundays
DESCRIPTION:Shaw JCC of Akron\nCalendar\nhttps://shawjcc.org/calendar/wee-s
 ing-sundays-1531840895-278184\n\nShmooze\, Stories and Songs at Temple Isr
 ael for ages 0-5. Wee Sing is free for families with young children.
DTSTART;TZID=America/New_York:20190224T100000
DTEND;TZID=America/New_York:20190224T110000
END:VEVENT
END:VCALENDAR
