BEGIN:VCALENDAR
PRODID:-//eluceo/ical//2.0/EN
VERSION:2.0
CALSCALE:GREGORIAN
BEGIN:VEVENT
UID:c7ffa981072ee4fe5b05620869c70630
DTSTAMP:20260426T014943Z
SUMMARY:Will Writing and Estate Planning
DESCRIPTION:Shaw JCC of Akron\nCalendar\nhttps://shawjcc.org/calendar/will-
 writing-and-estate-planning-271563\n\nJulie E. Firestone from Brouse McDow
 ell will give an informative talk about Will Writing. She will provide an 
 overview of the process\, documents and strategies involved in creating a 
 basic estate plan\, including the kinds of decisions involved\, the primar
 y documents included\, the difference between probate and non-probate esta
 tes\, and an overview of how an organized\, thoughtful and strategic estat
 e plan can be part of a person’s legacy to their family and community. F
 REE and open to the com...
DTSTART;TZID=America/New_York:20180525T110000
DTEND;TZID=America/New_York:20180525T120000
END:VEVENT
END:VCALENDAR
