BEGIN:VCALENDAR
PRODID:-//eluceo/ical//2.0/EN
VERSION:2.0
CALSCALE:GREGORIAN
BEGIN:VEVENT
UID:a8b2886cfe8abdfc63a762562ae07d5c
DTSTAMP:20260426T024025Z
SUMMARY:Wine and Welcome at Temple Israel
DESCRIPTION:Shaw JCC of Akron\nCalendar\nhttps://shawjcc.org/calendar/wine-
 and-welcome-at-temple-israel-1499867753-237963\n\nA Family Friendly event 
 before Temple Israel's 6:30 pm Shabbat Services this Summer. 
DTSTART;TZID=America/New_York:20170714T173000
DTEND;TZID=America/New_York:20170714T181500
END:VEVENT
END:VCALENDAR
