BEGIN:VCALENDAR
PRODID:-//eluceo/ical//2.0/EN
VERSION:2.0
CALSCALE:GREGORIAN
BEGIN:VEVENT
UID:bce33f5b50c0eb2f5c5067c1e9852e88
DTSTAMP:20260422T201513Z
SUMMARY:Winter Spa Day
DESCRIPTION:Shaw JCC of Akron\nCalendar\nhttps://shawjcc.org/calendar/winte
 r-spa-day-338085\n\nOur first Spa Day was so much fun\, we’re going to d
 o it again! Come and relax\, get pampered\, and say goodbye to those winte
 r blahs. Make and takes\, a spa lunch\, and pampering services. Get your r
 eservation in early!\n\nCost: M/$15 G/$25
DTSTART;TZID=America/New_York:20200221T110000
DTEND;TZID=America/New_York:20200221T133000
END:VEVENT
END:VCALENDAR
