BEGIN:VCALENDAR
PRODID:-//eluceo/ical//2.0/EN
VERSION:2.0
CALSCALE:GREGORIAN
BEGIN:VEVENT
UID:6689474952e40f9e798ebb502ed5ef44
DTSTAMP:20260422T234204Z
SUMMARY:Women's Seder at Temple Israel
DESCRIPTION:Shaw JCC of Akron\nCalendar\nhttps://shawjcc.org/calendar/women
 s-seder-at-temple-israel-1729020042-478646\n\nWomen's Seder at Temple Isra
 el hosted by TIA's Sisterhood
DTSTART;TZID=America/New_York:20250402T180000
DTEND;TZID=America/New_York:20250402T200000
END:VEVENT
END:VCALENDAR
