BEGIN:VCALENDAR
PRODID:-//eluceo/ical//2.0/EN
VERSION:2.0
CALSCALE:GREGORIAN
BEGIN:VEVENT
UID:23303170272710904e6d1cd8b6a08f15
DTSTAMP:20260421T181554Z
SUMMARY:Yom Ha'azmaut
DESCRIPTION:Shaw JCC of Akron\nCalendar\nhttps://shawjcc.org/calendar/yom-h
 aazmaut-216517\n\nYom Ha'azmaut 
DTSTART;TZID=America/New_York:20170430T000000
DTEND;TZID=America/New_York:20170430T230000
END:VEVENT
END:VCALENDAR
