BEGIN:VCALENDAR
PRODID:-//eluceo/ical//2.0/EN
VERSION:2.0
CALSCALE:GREGORIAN
BEGIN:VEVENT
UID:846dba05f561567a1aebd4d55cf4f2e3
DTSTAMP:20260423T183710Z
SUMMARY:Yom HaShoah Commemoration
DESCRIPTION:Shaw JCC of Akron\nCalendar\nhttps://shawjcc.org/calendar/yom-h
 ashoah-1651187109-406178\n\nCommunity Yom HaShoah Commemoration in the Sha
 w JCC auditorium
DTSTART;TZID=America/New_York:20230416T190000
DTEND;TZID=America/New_York:20230416T200000
END:VEVENT
END:VCALENDAR
