BEGIN:VCALENDAR
PRODID:-//eluceo/ical//2.0/EN
VERSION:2.0
CALSCALE:GREGORIAN
BEGIN:VEVENT
UID:1496389797aafa2647fcf0ffba9838b8
DTSTAMP:20260422T224606Z
SUMMARY:Yom Hashoah
DESCRIPTION:Shaw JCC of Akron\nCalendar\nhttps://shawjcc.org/calendar/yom-h
 ashoah-216516\n\nYom Hashoah\n\n 
DTSTART;TZID=America/New_York:20170423T000000
DTEND;TZID=America/New_York:20170423T230000
END:VEVENT
END:VCALENDAR
