BEGIN:VCALENDAR
PRODID:-//eluceo/ical//2.0/EN
VERSION:2.0
CALSCALE:GREGORIAN
BEGIN:VEVENT
UID:5368676c3541ec32df3df110b051e093
DTSTAMP:20260422T115524Z
SUMMARY:Yom HaShoah Commemoration
DESCRIPTION:Shaw JCC of Akron\nCalendar\nhttps://shawjcc.org/calendar/yom-h
 ashoah-commemoration-1511805716-254486\n\nYom HaShoah commemoration @ Shaw
  JCC - more details to come
DTSTART;TZID=America/New_York:20180415T190000
DTEND;TZID=America/New_York:20180415T210000
END:VEVENT
END:VCALENDAR
