BEGIN:VCALENDAR
PRODID:-//eluceo/ical//2.0/EN
VERSION:2.0
CALSCALE:GREGORIAN
BEGIN:VEVENT
UID:e42e57afa8f5b6701c756d586f0dd8c0
DTSTAMP:20260425T033001Z
SUMMARY:Yom HaShoah Commemoration
DESCRIPTION:Shaw JCC of Akron\nCalendar\nhttps://shawjcc.org/calendar/yom-h
 ashoah-commemoration-1542063743-292959\n\nThe Shaw JCC and Jewish Communit
 y Board of Akron invite the entire community to remember the Holocaust on 
 Thursday\, May 2\, 2019 from 7:00 - 8:00 p.m.
DTSTART;TZID=America/New_York:20190502T190000
DTEND;TZID=America/New_York:20190502T200000
END:VEVENT
END:VCALENDAR
