BEGIN:VCALENDAR
PRODID:-//eluceo/ical//2.0/EN
VERSION:2.0
CALSCALE:GREGORIAN
BEGIN:VEVENT
UID:05b90f28f3f24606d9afcb958ee691be
DTSTAMP:20260423T013422Z
SUMMARY:Yom HaShoah Commemoration
DESCRIPTION:Shaw JCC of Akron\nCalendar\nhttps://shawjcc.org/calendar/yom-h
 ashoah-commemoration-1619185125-379288\n\nYom HaShoah Commemoration
DTSTART;TZID=America/New_York:20220427T190000
DTEND;TZID=America/New_York:20220427T210000
END:VEVENT
END:VCALENDAR
