BEGIN:VCALENDAR
PRODID:-//eluceo/ical//2.0/EN
VERSION:2.0
CALSCALE:GREGORIAN
BEGIN:VEVENT
UID:9337ac0ef918415c5716885adc637729
DTSTAMP:20260423T151624Z
SUMMARY:Yom Hashoah Committee meeting
DESCRIPTION:Shaw JCC of Akron\nCalendar\nhttps://shawjcc.org/calendar/yom-h
 ashoah-committee-meeting-1508353311-249741\n\nYom Hashoah Commemoration Co
 mmittee meeting
DTSTART;TZID=America/New_York:20171205T180000
DTEND;TZID=America/New_York:20171205T200000
END:VEVENT
END:VCALENDAR
