BEGIN:VCALENDAR
PRODID:-//eluceo/ical//2.0/EN
VERSION:2.0
CALSCALE:GREGORIAN
BEGIN:VEVENT
UID:d7599640efcbfab2b4c38c3f26fc8eee
DTSTAMP:20260424T225732Z
SUMMARY:Yom Hasoah Committee
DESCRIPTION:Shaw JCC of Akron\nCalendar\nhttps://shawjcc.org/calendar/yom-h
 asoah-committee-1484688441-219445\n\n.
DTSTART;TZID=America/New_York:20170209T190000
DTEND;TZID=America/New_York:20170209T200000
END:VEVENT
END:VCALENDAR
