BEGIN:VCALENDAR
PRODID:-//eluceo/ical//2.0/EN
VERSION:2.0
CALSCALE:GREGORIAN
BEGIN:VEVENT
UID:66453a49cf076d3cf0a59373a3f9f532
DTSTAMP:20260426T024055Z
SUMMARY:Yossi Sasonkin's Bar Mitzvah Anshe Sfard
DESCRIPTION:Shaw JCC of Akron\nCalendar\nhttps://shawjcc.org/calendar/yossi
 -sasonkins-bar-mitzvah-anshe-sfard-1467821235-197855\n\nYossi Sasonkin's B
 ar Mitzvah
DTSTART;TZID=America/New_York:20170401T090000
DTEND;TZID=America/New_York:20170401T235959
END:VEVENT
END:VCALENDAR
